BEGIN:VCALENDAR
VERSION:2.0
PRODID:-//Merit House - ECPv6.15.20//NONSGML v1.0//EN
CALSCALE:GREGORIAN
METHOD:PUBLISH
X-ORIGINAL-URL:https://www.merithousetoledo.com
X-WR-CALDESC:Events for Merit House
REFRESH-INTERVAL;VALUE=DURATION:PT1H
X-Robots-Tag:noindex
X-PUBLISHED-TTL:PT1H
BEGIN:VTIMEZONE
TZID:America/Detroit
BEGIN:DAYLIGHT
TZOFFSETFROM:-0500
TZOFFSETTO:-0400
TZNAME:EDT
DTSTART:20220313T070000
END:DAYLIGHT
BEGIN:STANDARD
TZOFFSETFROM:-0400
TZOFFSETTO:-0500
TZNAME:EST
DTSTART:20221106T060000
END:STANDARD
BEGIN:DAYLIGHT
TZOFFSETFROM:-0500
TZOFFSETTO:-0400
TZNAME:EDT
DTSTART:20230312T070000
END:DAYLIGHT
BEGIN:STANDARD
TZOFFSETFROM:-0400
TZOFFSETTO:-0500
TZNAME:EST
DTSTART:20231105T060000
END:STANDARD
BEGIN:DAYLIGHT
TZOFFSETFROM:-0500
TZOFFSETTO:-0400
TZNAME:EDT
DTSTART:20240310T070000
END:DAYLIGHT
BEGIN:STANDARD
TZOFFSETFROM:-0400
TZOFFSETTO:-0500
TZNAME:EST
DTSTART:20241103T060000
END:STANDARD
END:VTIMEZONE
BEGIN:VEVENT
DTSTART;TZID=America/Detroit:20231207T140000
DTEND;TZID=America/Detroit:20231207T140000
DTSTAMP:20260422T030105
CREATED:20231129T202635Z
LAST-MODIFIED:20231129T202635Z
UID:2584-1701957600-1701957600@www.merithousetoledo.com
SUMMARY:Skip-Bo - AL Dining Room
DESCRIPTION:
URL:https://www.merithousetoledo.com/activities/skip-bo-al-dining-room-3/
LOCATION:Assisted Living Dining Room
CATEGORIES:Snack Cart
END:VEVENT
BEGIN:VEVENT
DTSTART;TZID=America/Detroit:20231211T173000
DTEND;TZID=America/Detroit:20231211T173000
DTSTAMP:20260422T030105
CREATED:20231129T202917Z
LAST-MODIFIED:20231129T202917Z
UID:2595-1702315800-1702315800@www.merithousetoledo.com
SUMMARY:Christmas Light Drive
DESCRIPTION:
URL:https://www.merithousetoledo.com/activities/christmas-light-drive/
CATEGORIES:Snack Cart
END:VEVENT
BEGIN:VEVENT
DTSTART;TZID=America/Detroit:20231213T173000
DTEND;TZID=America/Detroit:20231213T173000
DTSTAMP:20260422T030105
CREATED:20231129T203117Z
LAST-MODIFIED:20231129T203117Z
UID:2602-1702488600-1702488600@www.merithousetoledo.com
SUMMARY:Christmas Light Drive
DESCRIPTION:
URL:https://www.merithousetoledo.com/activities/christmas-light-drive-2/
CATEGORIES:Snack Cart
END:VEVENT
BEGIN:VEVENT
DTSTART;TZID=America/Detroit:20231214T133000
DTEND;TZID=America/Detroit:20231214T133000
DTSTAMP:20260422T030105
CREATED:20231129T203118Z
LAST-MODIFIED:20231129T203118Z
UID:2604-1702560600-1702560600@www.merithousetoledo.com
SUMMARY:Snack Cart- AL Dining Room
DESCRIPTION:
URL:https://www.merithousetoledo.com/activities/snack-cart-al-dining-room-16/
LOCATION:Assisted Living Dining Room
CATEGORIES:Snack Cart
END:VEVENT
BEGIN:VEVENT
DTSTART;TZID=America/Detroit:20231218T173000
DTEND;TZID=America/Detroit:20231218T173000
DTSTAMP:20260422T030105
CREATED:20231129T203344Z
LAST-MODIFIED:20231129T203344Z
UID:2614-1702920600-1702920600@www.merithousetoledo.com
SUMMARY:Christmas Light Drive
DESCRIPTION:
URL:https://www.merithousetoledo.com/activities/christmas-light-drive-3/
CATEGORIES:Snack Cart
END:VEVENT
BEGIN:VEVENT
DTSTART;TZID=America/Detroit:20231220T173000
DTEND;TZID=America/Detroit:20231220T173000
DTSTAMP:20260422T030105
CREATED:20231129T203544Z
LAST-MODIFIED:20231129T203544Z
UID:2619-1703093400-1703093400@www.merithousetoledo.com
SUMMARY:Christmas Light Drive
DESCRIPTION:
URL:https://www.merithousetoledo.com/activities/christmas-light-drive-4/
CATEGORIES:Snack Cart
END:VEVENT
BEGIN:VEVENT
DTSTART;TZID=America/Detroit:20231221T133000
DTEND;TZID=America/Detroit:20231221T133000
DTSTAMP:20260422T030105
CREATED:20231129T203743Z
LAST-MODIFIED:20231129T203743Z
UID:2621-1703165400-1703165400@www.merithousetoledo.com
SUMMARY:Snack Cart- AL Dining Room
DESCRIPTION:
URL:https://www.merithousetoledo.com/activities/snack-cart-al-dining-room-17/
LOCATION:Assisted Living Dining Room
CATEGORIES:Snack Cart
END:VEVENT
BEGIN:VEVENT
DTSTART;TZID=America/Detroit:20231228T133000
DTEND;TZID=America/Detroit:20231228T133000
DTSTAMP:20260422T030105
CREATED:20231129T203852Z
LAST-MODIFIED:20231129T203852Z
UID:2638-1703770200-1703770200@www.merithousetoledo.com
SUMMARY:Snack Cart- AL Dining Room
DESCRIPTION:
URL:https://www.merithousetoledo.com/activities/snack-cart-al-dining-room-18/
LOCATION:Assisted Living Dining Room
CATEGORIES:Snack Cart
END:VEVENT
END:VCALENDAR