BEGIN:VCALENDAR
VERSION:2.0
PRODID:-//Merit House - ECPv6.15.20//NONSGML v1.0//EN
CALSCALE:GREGORIAN
METHOD:PUBLISH
X-ORIGINAL-URL:https://www.merithousetoledo.com
X-WR-CALDESC:Events for Merit House
REFRESH-INTERVAL;VALUE=DURATION:PT1H
X-Robots-Tag:noindex
X-PUBLISHED-TTL:PT1H
BEGIN:VTIMEZONE
TZID:America/Detroit
BEGIN:DAYLIGHT
TZOFFSETFROM:-0500
TZOFFSETTO:-0400
TZNAME:EDT
DTSTART:20220313T070000
END:DAYLIGHT
BEGIN:STANDARD
TZOFFSETFROM:-0400
TZOFFSETTO:-0500
TZNAME:EST
DTSTART:20221106T060000
END:STANDARD
BEGIN:DAYLIGHT
TZOFFSETFROM:-0500
TZOFFSETTO:-0400
TZNAME:EDT
DTSTART:20230312T070000
END:DAYLIGHT
BEGIN:STANDARD
TZOFFSETFROM:-0400
TZOFFSETTO:-0500
TZNAME:EST
DTSTART:20231105T060000
END:STANDARD
BEGIN:DAYLIGHT
TZOFFSETFROM:-0500
TZOFFSETTO:-0400
TZNAME:EDT
DTSTART:20240310T070000
END:DAYLIGHT
BEGIN:STANDARD
TZOFFSETFROM:-0400
TZOFFSETTO:-0500
TZNAME:EST
DTSTART:20241103T060000
END:STANDARD
END:VTIMEZONE
BEGIN:VEVENT
DTSTART;TZID=America/Detroit:20231107T120000
DTEND;TZID=America/Detroit:20231107T120000
DTSTAMP:20260422T043138
CREATED:20231113T193242Z
LAST-MODIFIED:20231113T193242Z
UID:2435-1699358400-1699358400@www.merithousetoledo.com
SUMMARY:Take Out - Arby's
DESCRIPTION:
URL:https://www.merithousetoledo.com/activities/take-out-arbys/
CATEGORIES:Snack Cart
END:VEVENT
BEGIN:VEVENT
DTSTART;TZID=America/Detroit:20231109T133000
DTEND;TZID=America/Detroit:20231109T133000
DTSTAMP:20260422T043138
CREATED:20231113T193641Z
LAST-MODIFIED:20231113T193641Z
UID:2442-1699536600-1699536600@www.merithousetoledo.com
SUMMARY:Snack Cart- AL Dining Room
DESCRIPTION:
URL:https://www.merithousetoledo.com/activities/snack-cart-al-dining-room-11/
LOCATION:Assisted Living Dining Room
CATEGORIES:Snack Cart
END:VEVENT
BEGIN:VEVENT
DTSTART;TZID=America/Detroit:20231115T130000
DTEND;TZID=America/Detroit:20231115T130000
DTSTAMP:20260422T043138
CREATED:20231113T194818Z
LAST-MODIFIED:20231113T194818Z
UID:2523-1700053200-1700053200@www.merithousetoledo.com
SUMMARY:Snack Cart
DESCRIPTION:
URL:https://www.merithousetoledo.com/activities/snack-cart-3/
LOCATION:Main Dining Room
CATEGORIES:Snack Cart
END:VEVENT
BEGIN:VEVENT
DTSTART;TZID=America/Detroit:20231116T133000
DTEND;TZID=America/Detroit:20231116T133000
DTSTAMP:20260422T043138
CREATED:20231113T194242Z
LAST-MODIFIED:20231113T194242Z
UID:2459-1700141400-1700141400@www.merithousetoledo.com
SUMMARY:Snack Cart- AL Dining Room
DESCRIPTION:
URL:https://www.merithousetoledo.com/activities/snack-cart-al-dining-room-12/
LOCATION:Assisted Living Dining Room
CATEGORIES:Snack Cart
END:VEVENT
BEGIN:VEVENT
DTSTART;TZID=America/Detroit:20231122T133000
DTEND;TZID=America/Detroit:20231122T133000
DTSTAMP:20260422T043138
CREATED:20231113T194549Z
LAST-MODIFIED:20231113T194549Z
UID:2475-1700659800-1700659800@www.merithousetoledo.com
SUMMARY:Snack Cart- AL Dining Room
DESCRIPTION:
URL:https://www.merithousetoledo.com/activities/snack-cart-al-dining-room-13/
LOCATION:Assisted Living Dining Room
CATEGORIES:Snack Cart
END:VEVENT
BEGIN:VEVENT
DTSTART;TZID=America/Detroit:20231130T133000
DTEND;TZID=America/Detroit:20231130T133000
DTSTAMP:20260422T043138
CREATED:20231113T194703Z
LAST-MODIFIED:20231113T194703Z
UID:2496-1701351000-1701351000@www.merithousetoledo.com
SUMMARY:Snack Cart- AL Dining Room
DESCRIPTION:
URL:https://www.merithousetoledo.com/activities/snack-cart-al-dining-room-14/
LOCATION:Assisted Living Dining Room
CATEGORIES:Snack Cart
END:VEVENT
END:VCALENDAR